BEGIN:VCALENDAR
VERSION:2.0
PRODID:-//Arts For Art - ECPv6.15.20//NONSGML v1.0//EN
CALSCALE:GREGORIAN
METHOD:PUBLISH
X-ORIGINAL-URL:https://www.artsforart.org
X-WR-CALDESC:Events for Arts For Art
REFRESH-INTERVAL;VALUE=DURATION:PT1H
X-Robots-Tag:noindex
X-PUBLISHED-TTL:PT1H
BEGIN:VTIMEZONE
TZID:America/New_York
BEGIN:DAYLIGHT
TZOFFSETFROM:-0500
TZOFFSETTO:-0400
TZNAME:EDT
DTSTART:20240310T070000
END:DAYLIGHT
BEGIN:STANDARD
TZOFFSETFROM:-0400
TZOFFSETTO:-0500
TZNAME:EST
DTSTART:20241103T060000
END:STANDARD
BEGIN:DAYLIGHT
TZOFFSETFROM:-0500
TZOFFSETTO:-0400
TZNAME:EDT
DTSTART:20250309T070000
END:DAYLIGHT
BEGIN:STANDARD
TZOFFSETFROM:-0400
TZOFFSETTO:-0500
TZNAME:EST
DTSTART:20251102T060000
END:STANDARD
BEGIN:DAYLIGHT
TZOFFSETFROM:-0500
TZOFFSETTO:-0400
TZNAME:EDT
DTSTART:20260308T070000
END:DAYLIGHT
BEGIN:STANDARD
TZOFFSETFROM:-0400
TZOFFSETTO:-0500
TZNAME:EST
DTSTART:20261101T060000
END:STANDARD
END:VTIMEZONE
BEGIN:VEVENT
DTSTART;TZID=America/New_York:20251004T140000
DTEND;TZID=America/New_York:20251004T173000
DTSTAMP:20260419T134750
CREATED:20250811T183354Z
LAST-MODIFIED:20250811T193608Z
UID:10000045-1759586400-1759599000@www.artsforart.org
SUMMARY:4 October — inGardens Festival
DESCRIPTION:
URL:https://www.artsforart.org/event/4-october-ingardens-festival/
LOCATION:First Street Green\, 33 E 1st St\, New York\, 10003\, United States
CATEGORIES:InGardens Festival
END:VEVENT
BEGIN:VEVENT
DTSTART;TZID=America/New_York:20251005T140000
DTEND;TZID=America/New_York:20251005T180000
DTSTAMP:20260419T134750
CREATED:20250811T183611Z
LAST-MODIFIED:20250811T193519Z
UID:10000046-1759672800-1759687200@www.artsforart.org
SUMMARY:5 October — inGardens Festival
DESCRIPTION:
URL:https://www.artsforart.org/event/5-october-ingardens-festival/
LOCATION:First Street Green\, 33 E 1st St\, New York\, 10003\, United States
CATEGORIES:InGardens Festival
END:VEVENT
BEGIN:VEVENT
DTSTART;TZID=America/New_York:20251011T140000
DTEND;TZID=America/New_York:20251011T180000
DTSTAMP:20260419T134750
CREATED:20250811T183802Z
LAST-MODIFIED:20250811T193452Z
UID:10000047-1760191200-1760205600@www.artsforart.org
SUMMARY:11 October — inGardens Festival
DESCRIPTION:
URL:https://www.artsforart.org/event/11-october-ingardens-festival/
LOCATION:First Street Green\, 33 E 1st St\, New York\, 10003\, United States
CATEGORIES:InGardens Festival
END:VEVENT
BEGIN:VEVENT
DTSTART;TZID=America/New_York:20251012T140000
DTEND;TZID=America/New_York:20251012T180000
DTSTAMP:20260419T134750
CREATED:20250811T183952Z
LAST-MODIFIED:20250811T193408Z
UID:10000048-1760277600-1760292000@www.artsforart.org
SUMMARY:12 October — inGardens Festival
DESCRIPTION:
URL:https://www.artsforart.org/event/12-october-ingardens-festival/
LOCATION:First Street Green\, 33 E 1st St\, New York\, 10003\, United States
CATEGORIES:InGardens Festival
END:VEVENT
BEGIN:VEVENT
DTSTART;TZID=America/New_York:20251013T140000
DTEND;TZID=America/New_York:20251013T180000
DTSTAMP:20260419T134750
CREATED:20250811T193255Z
LAST-MODIFIED:20250811T193255Z
UID:10000049-1760364000-1760378400@www.artsforart.org
SUMMARY:13 October — inGardens Festival
DESCRIPTION:
URL:https://www.artsforart.org/event/13-october-ingardens-festival-copy/
LOCATION:First Street Green\, 33 E 1st St\, New York\, 10003\, United States
CATEGORIES:InGardens Festival
END:VEVENT
BEGIN:VEVENT
DTSTART;TZID=America/New_York:20251019T130000
DTEND;TZID=America/New_York:20251019T170000
DTSTAMP:20260419T134750
CREATED:20251016T171932Z
LAST-MODIFIED:20251016T171932Z
UID:10000051-1760878800-1760893200@www.artsforart.org
SUMMARY:19 October (Rain Date) — inGardens Festival
DESCRIPTION:
URL:https://www.artsforart.org/event/19-october-rain-date-ingardens-festival/
LOCATION:Children’s Magical Garden\, 129 Stanton St.\, New York\, NY\, 10002\, United States
CATEGORIES:InGardens Festival
END:VEVENT
END:VCALENDAR