BEGIN:VCALENDAR
VERSION:2.0
PRODID:-//Arts For Art - ECPv6.15.20//NONSGML v1.0//EN
CALSCALE:GREGORIAN
METHOD:PUBLISH
X-WR-CALNAME:Arts For Art
X-ORIGINAL-URL:https://www.artsforart.org
X-WR-CALDESC:Events for Arts For Art
REFRESH-INTERVAL;VALUE=DURATION:PT1H
X-Robots-Tag:noindex
X-PUBLISHED-TTL:PT1H
BEGIN:VTIMEZONE
TZID:UTC
BEGIN:STANDARD
TZOFFSETFROM:+0000
TZOFFSETTO:+0000
TZNAME:UTC
DTSTART:20240101T000000
END:STANDARD
END:VTIMEZONE
BEGIN:VEVENT
DTSTART;TZID=UTC:20250319T190000
DTEND;TZID=UTC:20250319T233000
DTSTAMP:20260419T173710
CREATED:20250314T180018Z
LAST-MODIFIED:20250326T044552Z
UID:10000014-1742410800-1742427000@www.artsforart.org
SUMMARY:Free Dimensions: March 19
DESCRIPTION:« All Events\n \nThis event has passed. \n\n	Free Dimensions: March 19\n			March 19\n	 @\n7:00 pm\n	 –\n11:30 pm \n\n$20.00 \n	\n		Free Dimensions is a concert series consisted of collaborative performances curated by artists dedicated to forming a space for consistent creativity and free expression. Performances every Wednesday at Nublu Classic.\nCurated by Isa Crespo Pardo\nLineup:\nYaz Lancaster\nJustine Lee Hooper & Alfredo Colon\nDJ sola system		 \n\n	NuBlu Classic\n\n62 Loisaida Ave\n		\n		New York\,\n	NY\n	10009\n	United States\n\n\n	+ Google Map \n\n					\n						\n	 \n\n	View Venue Website \n\n\n\n	\n	Add to calendar	\n		\n	\n \n\n\n	Google Calendar\n\n\n	iCalendar\n\n\n	Outlook 365\n\n\n	Outlook Live\n\n\n\n\n\n	\n		Free Dimensions Series: March 26
URL:https://www.artsforart.org/event/free-dimensions-march-19/
LOCATION:NuBlu Classic\, 62 Loisaida Ave\, New York\, NY\, 10009\, United States
CATEGORIES:FREE DIMENSIONS
ATTACH;FMTTYPE=image/png:https://www.artsforart.org/wp-content/uploads/2025/03/FreeDimensions_Square-Mar19.png
END:VEVENT
END:VCALENDAR