BEGIN:VCALENDAR
VERSION:2.0
PRODID:-//Arts For Art - ECPv6.15.20//NONSGML v1.0//EN
CALSCALE:GREGORIAN
METHOD:PUBLISH
X-ORIGINAL-URL:https://www.artsforart.org
X-WR-CALDESC:Events for Arts For Art
REFRESH-INTERVAL;VALUE=DURATION:PT1H
X-Robots-Tag:noindex
X-PUBLISHED-TTL:PT1H
BEGIN:VTIMEZONE
TZID:America/New_York
BEGIN:DAYLIGHT
TZOFFSETFROM:-0500
TZOFFSETTO:-0400
TZNAME:EDT
DTSTART:20250309T070000
END:DAYLIGHT
BEGIN:STANDARD
TZOFFSETFROM:-0400
TZOFFSETTO:-0500
TZNAME:EST
DTSTART:20251102T060000
END:STANDARD
BEGIN:DAYLIGHT
TZOFFSETFROM:-0500
TZOFFSETTO:-0400
TZNAME:EDT
DTSTART:20260308T070000
END:DAYLIGHT
BEGIN:STANDARD
TZOFFSETFROM:-0400
TZOFFSETTO:-0500
TZNAME:EST
DTSTART:20261101T060000
END:STANDARD
BEGIN:DAYLIGHT
TZOFFSETFROM:-0500
TZOFFSETTO:-0400
TZNAME:EDT
DTSTART:20270314T070000
END:DAYLIGHT
BEGIN:STANDARD
TZOFFSETFROM:-0400
TZOFFSETTO:-0500
TZNAME:EST
DTSTART:20271107T060000
END:STANDARD
END:VTIMEZONE
BEGIN:VEVENT
DTSTART;TZID=America/New_York:20260314T190000
DTEND;TZID=America/New_York:20260314T233000
DTSTAMP:20260419T100454
CREATED:20260209T203827Z
LAST-MODIFIED:20260305T223140Z
UID:10000070-1773514800-1773531000@www.artsforart.org
SUMMARY:Out Fest — Mar 14
DESCRIPTION:7:00pm: The Jazz and Poetry Choir Collective: Golda Solomon – poet / E.J. Antonio – poet / Phylisha Villanueva – poet / Jason Kao Hwang – violin / JD Parron – reeds / Andrea Wolper – voice / Christopher Dean Sullivan – bass / Warren Smith – vibes / Michael TA Thompson – drums \n8:00pm: Alfredo Colón Quartet: Alfredo Colón – sax / Ryan Easter – trumpet / Luke Stewart – bass / Marc Valdes – drums \n9:00pm: Geometry: Kyoko Kitamura – voice / Joe Morris – guitar / Taylor Ho Bynum – cornet / Tomeka Reid – cello \n10:00pm: William Parker’s Pocketwatch: William Parker – composition\, conducting\, double reeds\, etc / Rob Brown. Aakash Mittal\, Devin Brahja Waldman – alto /Alfredo Colon\, Isaiah Barr – tenor / Dave Sewelson – baritone / Diego Hedez – trumpet / Colin Babcock\, Masahiko Kono – trombone /  Colson Jimenez – bass / Juan Pablo Carletti – drums\, percussion / Hans Young Binter –  keyboard / Ellen Christi\, Kyoko Kitamura – voice / Patricia Nicholson – voice\, spoken word
URL:https://www.artsforart.org/event/out-fest-mar-14/
LOCATION:Loove Annex\, 238 N 12th St\, Brooklyn\, NY\, 11211\, United States
ATTACH;FMTTYPE=image/png:https://www.artsforart.org/wp-content/uploads/2026/02/OutFest_Main-Poster-scaled.png
END:VEVENT
BEGIN:VEVENT
DTSTART;TZID=America/New_York:20260315T190000
DTEND;TZID=America/New_York:20260315T233000
DTSTAMP:20260419T100454
CREATED:20260209T204247Z
LAST-MODIFIED:20260313T160800Z
UID:10000071-1773601200-1773617400@www.artsforart.org
SUMMARY:Out Fest — Mar 15
DESCRIPTION:7:00pm: Ahmed Abdullah Monique Ngozi Nri \n8:00pm: Matthew Shipp Solo: Matthew Shipp – piano \n9:00pm: Radical Reversal: Randhall Horton – poet / Devin Waldman – saxophone / Melanie Dyer – vocal  / Amma Islam – vocal / Brendan Regan – guitar / Malik Washington – drums \n10:00pm: Cooper-Moore / DoYeon Kim / William Parker: Cooper-Moore – piano / DoYeon Kim – vocal  / William Parker – bass
URL:https://www.artsforart.org/event/out-fest-mar-15/
LOCATION:Loove Annex\, 238 N 12th St\, Brooklyn\, NY\, 11211\, United States
ATTACH;FMTTYPE=image/png:https://www.artsforart.org/wp-content/uploads/2026/02/OutFest_Main-Poster-scaled.png
END:VEVENT
BEGIN:VEVENT
DTSTART;TZID=America/New_York:20260318T190000
DTEND;TZID=America/New_York:20260318T233000
DTSTAMP:20260419T100454
CREATED:20260302T165341Z
LAST-MODIFIED:20260312T193039Z
UID:10000073-1773860400-1773876600@www.artsforart.org
SUMMARY:Inter(Space) — Mar 18
DESCRIPTION:7:00pm: Warren Trae Crudup Band: Warren Trae Crudup / Alfredo Colón / William Parker \n8:00pm: Rob Brown Residency: Rob Brown / Colson Jimenez / Juan Pablo Carletti \n9:00pm: Luke Stewart’s “Mysteries of 2”: Luke Stewart / Lesley Mok / Shara Lunon / Ellen Christi
URL:https://www.artsforart.org/event/interspace-mar-18/
LOCATION:Loove Annex\, 238 N 12th St\, Brooklyn\, NY\, 11211\, United States
ATTACH;FMTTYPE=image/png:https://www.artsforart.org/wp-content/uploads/2026/03/IS_Poster_Mar18-1-scaled.png
END:VEVENT
BEGIN:VEVENT
DTSTART;TZID=America/New_York:20260325T200000
DTEND;TZID=America/New_York:20260325T233000
DTSTAMP:20260419T100454
CREATED:20260302T165732Z
LAST-MODIFIED:20260323T181449Z
UID:10000074-1774468800-1774481400@www.artsforart.org
SUMMARY:Inter(Space) — Mar 25
DESCRIPTION:8:30pm: Rob Brown Residency: Rob Brown / Colson Jimenez / Juan Pablo Carletti \n9:15pm: Alexis Marcelo Trio:  Alexis Marcelo / Gervis Miles / Tim Angulo \n10:00pm: Luke Stewart “Mysteries of 2”: Luke Stewart / Lester St. Luois / Leila Bordreuil / Melanie Dyer
URL:https://www.artsforart.org/event/interspace-mar-25/
LOCATION:Loove Annex\, 238 N 12th St\, Brooklyn\, NY\, 11211\, United States
ATTACH;FMTTYPE=image/png:https://www.artsforart.org/wp-content/uploads/2026/03/IS_Poster_Mar25-1-scaled.png
END:VEVENT
BEGIN:VEVENT
DTSTART;TZID=America/New_York:20260401T190000
DTEND;TZID=America/New_York:20260401T233000
DTSTAMP:20260419T100455
CREATED:20260302T170137Z
LAST-MODIFIED:20260325T170013Z
UID:10000075-1775070000-1775086200@www.artsforart.org
SUMMARY:Inter(Space) — Apr 1
DESCRIPTION:7:00pm: Rob Brown Residency: Rob Brown / Colson Jimenez / Juan Pablo Carletti \n8:00pm:Chris Williams & gabby fluke-mogul: Chris Williams – trumpet / gabby fluke-mogul – violin \n9:00pm: Luke Stewart’s “Mysteries of 2”: Melanie Dyer / Chris Williams / Ellen Christi / Lesley Mok / Jason Kao Hwang / Leila Bordreuil / Melissa Almaguer / Shara Lunon
URL:https://www.artsforart.org/event/interspace-apr-1/
LOCATION:Loove Annex\, 238 N 12th St\, Brooklyn\, NY\, 11211\, United States
END:VEVENT
BEGIN:VEVENT
DTSTART;TZID=America/New_York:20260408T190000
DTEND;TZID=America/New_York:20260408T230000
DTSTAMP:20260419T100455
CREATED:20260325T172131Z
LAST-MODIFIED:20260325T172131Z
UID:10000077-1775674800-1775689200@www.artsforart.org
SUMMARY:Inter(Space) — Apr 8
DESCRIPTION:7 pm: gabby fluke-mogul & Melissa Almaguer duo (gabby fluke-mogul birthday celebration Band ): gabby fluke-mogul – violin  /  Melissa Almaguer – percussion/movement  \n8 pm: gabby fluke-mogul\, William Parker\, Tcheser Holmes Trio (gabby fluke-mogul birthday celebration Band 2): gabby fluke-mogul – violin /  William Parker – bass / Tcheser Holmes – drum \n9 pm: William Parker PocketWatch Residency: William Parker – composition\, conducting\, double reeds\, etc / Rob Brown\, Aakash Mitta\, Devin Waldman – alto / Alfredo Colon\, Isaiah Barr – tenor / Dave Sewelson – baritone / Diego Hedez – trumpet / Colin Babcock\, Masahiko Kono – trombone Colson Jimenez – bass / Juan Pablo Carletti – drums / Hans Young Binter – piano / Ellen Christi\, Kyoko Kitamura – voice / Patricia Nicholson – voice\, spoken word
URL:https://www.artsforart.org/event/interspace-apr-8/
LOCATION:Loove Annex\, 238 N 12th St\, Brooklyn\, NY\, 11211\, United States
END:VEVENT
BEGIN:VEVENT
DTSTART;TZID=America/New_York:20260415T190000
DTEND;TZID=America/New_York:20260415T230000
DTSTAMP:20260419T100455
CREATED:20260326T210512Z
LAST-MODIFIED:20260410T204941Z
UID:10000078-1776279600-1776294000@www.artsforart.org
SUMMARY:Inter(space) - Apr 15
DESCRIPTION:7 pm: William Parker Pocketwatch Residency: William Parker – composition\, conducting\, double reeds\, etc / Rob Brown\, Aakash Mitta\, Devin Waldman – alto / Alfredo Colon\, Isaiah Barr – tenor / Dave Sewelson – baritone / Diego Hedez – trumpet / Colin Babcock\, Masahiko Kono – trombone Colson Jimenez – bass / Juan Pablo Carletti – drums / Hans Young Binter – piano / Ellen Christi\, Kyoko Kitamura – voice / Patricia Nicholson – voice\, spoken word \n8 pm: Whit Dickey – drum / Jonathan Paik – piano \n9 pm: Dave Sewelson / Cooper-Moore: Dave Sewelson – sax / Cooper-Moore – handmade instrument
URL:https://www.artsforart.org/event/interspace-apr-15/
LOCATION:Loove Annex\, 238 N 12th St\, Brooklyn\, NY\, 11211\, United States
END:VEVENT
BEGIN:VEVENT
DTSTART;TZID=America/New_York:20260422T190000
DTEND;TZID=America/New_York:20260422T230000
DTSTAMP:20260419T100455
CREATED:20260327T160233Z
LAST-MODIFIED:20260414T170324Z
UID:10000079-1776884400-1776898800@www.artsforart.org
SUMMARY:Inter(space) - Apr 22
DESCRIPTION:7 pm: William Parker Pocketwatch Residency: William Parker – composition\, conducting\, double reeds\, etc / Rob Brown\, Aakash Mitta\, Devin Waldman – alto / Alfredo Colon\, Isaiah Barr – tenor / Dave Sewelson – baritone / Diego Hedez – trumpet / Colin Babcock\, Masahiko Kono – trombone Colson Jimenez – bass / Juan Pablo Carletti – drums / Hans Young Binter – piano / Ellen Christi\, Kyoko Kitamura – voice / Patricia Nicholson – voice\, spoken word \n8 pm: Siren Xypher:  Melanie Dyer – viola / Mara Rosenbloom – piano / Kyoko Kitamura – voice \n9 pm: Ellen Christi / TA Thompson / Eri / Patricia Nicholson Parker: Ellen Christi – voice / TA Thompson – drum  / Eri Yamamoto – piano  / Patricia Nicholson Parker – spoken words
URL:https://www.artsforart.org/event/interspace-apr-22/
LOCATION:Loove Annex\, 238 N 12th St\, Brooklyn\, NY\, 11211\, United States
END:VEVENT
BEGIN:VEVENT
DTSTART;TZID=America/New_York:20260429T190000
DTEND;TZID=America/New_York:20260429T230000
DTSTAMP:20260419T100455
CREATED:20260327T160722Z
LAST-MODIFIED:20260410T205227Z
UID:10000080-1777489200-1777503600@www.artsforart.org
SUMMARY:Inter(space) - Apr 29
DESCRIPTION:7 pm: William Parker Pocketwatch Residency: William Parker – composition\, conducting\, double reeds\, etc / Rob Brown\, Aakash Mitta\, Devin Waldman – alto / Alfredo Colon\, Isaiah Barr – tenor / Dave Sewelson – baritone / Diego Hedez – trumpet / Colin Babcock\, Masahiko Kono – trombone Colson Jimenez – bass / Juan Pablo Carletti – drums / Hans Young Binter – piano / Ellen Christi\, Kyoko Kitamura – voice / Patricia Nicholson – voice\, spoken word \n8 pm: William Parker Pocketwatch Residency: William Parker – composition\, conducting\, double reeds\, etc / Rob Brown\, Aakash Mitta\, Devin Waldman – alto / Alfredo Colon\, Isaiah Barr – tenor / Dave Sewelson – baritone / Diego Hedez – trumpet / Colin Babcock\, Masahiko Kono – trombone Colson Jimenez – bass / Juan Pablo Carletti – drums / Hans Young Binter – piano / Ellen Christi\, Kyoko Kitamura – voice / Patricia Nicholson – voice\, spoken word \n9 pm: Sam Newsome Quartet: Sam Newsome – soprano / Brittney Karlson – bass / Nick Neuberg – drums / Tash Nikol spoken word
URL:https://www.artsforart.org/event/interspace-apr-29/
LOCATION:Loove Annex\, 238 N 12th St\, Brooklyn\, NY\, 11211\, United States
END:VEVENT
BEGIN:VEVENT
DTSTART;TZID=America/New_York:20260506T190000
DTEND;TZID=America/New_York:20260506T230000
DTSTAMP:20260419T100455
CREATED:20260410T210144Z
LAST-MODIFIED:20260410T210144Z
UID:10000081-1778094000-1778108400@www.artsforart.org
SUMMARY:Inter(space) - May 6
DESCRIPTION:7 pm: Ayumi Ishito \n8 pm: Jason Kao Hwang Residency Critical Response \nJason Kao Hwang – violin / Anders Nillson – guitar / TA Thompson – drums \n9 pm: Hans Young Binter Residency
URL:https://www.artsforart.org/event/interspace-may-6/
LOCATION:Loove Annex\, 238 N 12th St\, Brooklyn\, NY\, 11211\, United States
END:VEVENT
END:VCALENDAR