BEGIN:VCALENDAR
VERSION:2.0
PRODID:-//Arts For Art - ECPv6.15.20//NONSGML v1.0//EN
CALSCALE:GREGORIAN
METHOD:PUBLISH
X-ORIGINAL-URL:https://www.artsforart.org
X-WR-CALDESC:Events for Arts For Art
REFRESH-INTERVAL;VALUE=DURATION:PT1H
X-Robots-Tag:noindex
X-PUBLISHED-TTL:PT1H
BEGIN:VTIMEZONE
TZID:UTC
BEGIN:STANDARD
TZOFFSETFROM:+0000
TZOFFSETTO:+0000
TZNAME:UTC
DTSTART:20240101T000000
END:STANDARD
END:VTIMEZONE
BEGIN:VTIMEZONE
TZID:America/New_York
BEGIN:DAYLIGHT
TZOFFSETFROM:-0500
TZOFFSETTO:-0400
TZNAME:EDT
DTSTART:20240310T070000
END:DAYLIGHT
BEGIN:STANDARD
TZOFFSETFROM:-0400
TZOFFSETTO:-0500
TZNAME:EST
DTSTART:20241103T060000
END:STANDARD
BEGIN:DAYLIGHT
TZOFFSETFROM:-0500
TZOFFSETTO:-0400
TZNAME:EDT
DTSTART:20250309T070000
END:DAYLIGHT
BEGIN:STANDARD
TZOFFSETFROM:-0400
TZOFFSETTO:-0500
TZNAME:EST
DTSTART:20251102T060000
END:STANDARD
BEGIN:DAYLIGHT
TZOFFSETFROM:-0500
TZOFFSETTO:-0400
TZNAME:EDT
DTSTART:20260308T070000
END:DAYLIGHT
BEGIN:STANDARD
TZOFFSETFROM:-0400
TZOFFSETTO:-0500
TZNAME:EST
DTSTART:20261101T060000
END:STANDARD
END:VTIMEZONE
BEGIN:VEVENT
DTSTART;TZID=UTC:20250402T190000
DTEND;TZID=UTC:20250402T233000
DTSTAMP:20260420T012952
CREATED:20250318T002249Z
LAST-MODIFIED:20250326T003949Z
UID:10000016-1743620400-1743636600@www.artsforart.org
SUMMARY:Free Dimensions Series: April 2
DESCRIPTION:Curated by Dave Sewelson: First Apparitions\, Kevin Ramsay\, Gustavo Aguilar\, Stevie Manning\, Mark Edwards
URL:https://www.artsforart.org/event/free-dimensions-april-2/
LOCATION:NuBlu Classic\, 62 Loisaida Ave\, New York\, NY\, 10009\, United States
CATEGORIES:FREE DIMENSIONS
ATTACH;FMTTYPE=image/png:https://www.artsforart.org/wp-content/uploads/2025/03/FreeDimensions_Square-Apr2-1.png
END:VEVENT
BEGIN:VEVENT
DTSTART;TZID=UTC:20250402T223000
DTEND;TZID=UTC:20250402T233000
DTSTAMP:20260420T012952
CREATED:20250318T004238Z
LAST-MODIFIED:20250326T203350Z
UID:10000017-1743633000-1743636600@www.artsforart.org
SUMMARY:Free Dimensions Series: April 2 [Late Show]
DESCRIPTION:Six in a Septet: Luisa Muhr\, Daniel Carter\, Kenneth Jimenez\, Abe Mamet\, Sana Nagano\, Alfred Vogel
URL:https://www.artsforart.org/event/free-dimensions-april-2-late-show/
LOCATION:NuBlu Classic\, 62 Loisaida Ave\, New York\, NY\, 10009\, United States
CATEGORIES:FREE DIMENSIONS
END:VEVENT
BEGIN:VEVENT
DTSTART;TZID=UTC:20250409T190000
DTEND;TZID=UTC:20250409T233000
DTSTAMP:20260420T012952
CREATED:20250328T203618Z
LAST-MODIFIED:20250328T203618Z
UID:10000018-1744225200-1744241400@www.artsforart.org
SUMMARY:Free Dimensions: April 9
DESCRIPTION:
URL:https://www.artsforart.org/event/free-dimensions-april-9/
LOCATION:NuBlu Classic\, 62 Loisaida Ave\, New York\, NY\, 10009\, United States
CATEGORIES:FREE DIMENSIONS
END:VEVENT
BEGIN:VEVENT
DTSTART;TZID=America/New_York:20250416T190000
DTEND;TZID=America/New_York:20250416T233000
DTSTAMP:20260420T012952
CREATED:20250328T203808Z
LAST-MODIFIED:20250417T012831Z
UID:10000019-1744830000-1744846200@www.artsforart.org
SUMMARY:Free Dimensions: April 16
DESCRIPTION:
URL:https://www.artsforart.org/event/free-dimensions-april-16/
LOCATION:NuBlu Classic\, 62 Loisaida Ave\, New York\, NY\, 10009\, United States
CATEGORIES:FREE DIMENSIONS
END:VEVENT
BEGIN:VEVENT
DTSTART;TZID=UTC:20250423T190000
DTEND;TZID=UTC:20250423T233000
DTSTAMP:20260420T012952
CREATED:20250328T204022Z
LAST-MODIFIED:20250328T204022Z
UID:10000020-1745434800-1745451000@www.artsforart.org
SUMMARY:Free Dimensions: April 23
DESCRIPTION:
URL:https://www.artsforart.org/event/free-dimensions-april-23/
LOCATION:NuBlu Classic\, 62 Loisaida Ave\, New York\, NY\, 10009\, United States
CATEGORIES:FREE DIMENSIONS
END:VEVENT
BEGIN:VEVENT
DTSTART;TZID=UTC:20250430T190000
DTEND;TZID=UTC:20250430T233000
DTSTAMP:20260420T012952
CREATED:20250411T001735Z
LAST-MODIFIED:20250411T001830Z
UID:10000029-1746039600-1746055800@www.artsforart.org
SUMMARY:Free Dimensions Series: April 30
DESCRIPTION:Curated by Patricia Nicholson: Dave Sewelson\, Chris Cochrane\, Nebula\, Ayumi Ishito\, Aakash Mittal\, Georgia Warden Collins\, Warren Trae Crudup
URL:https://www.artsforart.org/event/free-dimensions-series-april-30/
LOCATION:NuBlu Classic\, 62 Loisaida Ave\, New York\, NY\, 10009\, United States
CATEGORIES:FREE DIMENSIONS
END:VEVENT
BEGIN:VEVENT
DTSTART;TZID=UTC:20250507T190000
DTEND;TZID=UTC:20250507T233000
DTSTAMP:20260420T012952
CREATED:20250405T003726Z
LAST-MODIFIED:20250405T004221Z
UID:10000028-1746644400-1746660600@www.artsforart.org
SUMMARY:Free Dimensions: May 7
DESCRIPTION:
URL:https://www.artsforart.org/event/free-dimensions-may-7/
LOCATION:NuBlu Classic\, 62 Loisaida Ave\, New York\, NY\, 10009\, United States
CATEGORIES:FREE DIMENSIONS
END:VEVENT
BEGIN:VEVENT
DTSTART;TZID=America/New_York:20250514T190000
DTEND;TZID=America/New_York:20250514T233000
DTSTAMP:20260420T012952
CREATED:20250430T191636Z
LAST-MODIFIED:20250430T191636Z
UID:10000030-1747249200-1747265400@www.artsforart.org
SUMMARY:Free Dimensions: May 14
DESCRIPTION:
URL:https://www.artsforart.org/event/free-dimensions-may-14/
LOCATION:NuBlu Classic\, 62 Loisaida Ave\, New York\, NY\, 10009\, United States
CATEGORIES:FREE DIMENSIONS
END:VEVENT
BEGIN:VEVENT
DTSTART;TZID=America/New_York:20250521T193000
DTEND;TZID=America/New_York:20250521T233000
DTSTAMP:20260420T012952
CREATED:20250519T122321Z
LAST-MODIFIED:20250519T122549Z
UID:10000031-1747855800-1747870200@www.artsforart.org
SUMMARY:Free Dimensions — May 21
DESCRIPTION:Lineup: \nNeta Raanan \nJordan Young & T.A. Thompson
URL:https://www.artsforart.org/event/free-dimensions-may-21/
LOCATION:NuBlu Classic\, 62 Loisaida Ave\, New York\, NY\, 10009\, United States
ATTACH;FMTTYPE=image/png:https://www.artsforart.org/wp-content/uploads/2025/05/FreeDimensions_Square-May21-scaled.png
END:VEVENT
BEGIN:VEVENT
DTSTART;TZID=America/New_York:20250528T193000
DTEND;TZID=America/New_York:20250528T233000
DTSTAMP:20260420T012952
CREATED:20250519T123258Z
LAST-MODIFIED:20250520T055600Z
UID:10000032-1748460600-1748475000@www.artsforart.org
SUMMARY:Free Dimensions — May 28
DESCRIPTION:Lineup: \nMiracle Wastes \nPhantom Honeymoon \nBrittany Karlson/Nick Neuburg Duo \nwith DJ Undisclosed Locations
URL:https://www.artsforart.org/event/free-dimensions-may-28/
LOCATION:NuBlu Classic\, 62 Loisaida Ave\, New York\, NY\, 10009\, United States
CATEGORIES:FREE DIMENSIONS
ATTACH;FMTTYPE=image/png:https://www.artsforart.org/wp-content/uploads/2025/05/FreeDimensions_Square-May28-scaled.png
END:VEVENT
BEGIN:VEVENT
DTSTART;TZID=America/New_York:20250602T190000
DTEND;TZID=America/New_York:20250602T220000
DTSTAMP:20260420T012952
CREATED:20250331T200031Z
LAST-MODIFIED:20250425T142104Z
UID:10000021-1748890800-1748901600@www.artsforart.org
SUMMARY:Vision Festival — June 2
DESCRIPTION:
URL:https://www.artsforart.org/event/vision-festival-june-2/
LOCATION:Roulette Intermedium\, 509 Atlantic Ave\, Brooklyn\, NY\, 11217\, United States
CATEGORIES:Vision Festival
END:VEVENT
BEGIN:VEVENT
DTSTART;TZID=America/New_York:20250603T190000
DTEND;TZID=America/New_York:20250603T233000
DTSTAMP:20260420T012952
CREATED:20250331T200410Z
LAST-MODIFIED:20250604T023526Z
UID:10000022-1748977200-1748993400@www.artsforart.org
SUMMARY:Vision Festival — June 3
DESCRIPTION:
URL:https://www.artsforart.org/event/vision-festival-june-3/
LOCATION:Roulette Intermedium\, 509 Atlantic Ave\, Brooklyn\, NY\, 11217\, United States
CATEGORIES:Vision Festival
END:VEVENT
BEGIN:VEVENT
DTSTART;TZID=America/New_York:20250604T183000
DTEND;TZID=America/New_York:20250604T233000
DTSTAMP:20260420T012952
CREATED:20250331T221307Z
LAST-MODIFIED:20250604T023748Z
UID:10000023-1749061800-1749079800@www.artsforart.org
SUMMARY:Vision Festival — June 4
DESCRIPTION:
URL:https://www.artsforart.org/event/vision-festival-june-4/
LOCATION:Roulette Intermedium\, 509 Atlantic Ave\, Brooklyn\, NY\, 11217\, United States
CATEGORIES:Vision Festival
END:VEVENT
BEGIN:VEVENT
DTSTART;TZID=UTC:20250605T183000
DTEND;TZID=UTC:20250605T233000
DTSTAMP:20260420T012952
CREATED:20250401T002209Z
LAST-MODIFIED:20250425T142558Z
UID:10000025-1749148200-1749166200@www.artsforart.org
SUMMARY:Vision Festival — June 5
DESCRIPTION:
URL:https://www.artsforart.org/event/vision-festival-june-5/
LOCATION:Roulette Intermedium\, 509 Atlantic Ave\, Brooklyn\, NY\, 11217\, United States
CATEGORIES:Vision Festival
END:VEVENT
BEGIN:VEVENT
DTSTART;TZID=America/New_York:20250606T183000
DTEND;TZID=America/New_York:20250606T233000
DTSTAMP:20260420T012952
CREATED:20250401T002302Z
LAST-MODIFIED:20250606T134544Z
UID:10000026-1749234600-1749252600@www.artsforart.org
SUMMARY:Vision Festival — June 6
DESCRIPTION:
URL:https://www.artsforart.org/event/vision-festival-june-6/
LOCATION:Roulette Intermedium\, 509 Atlantic Ave\, Brooklyn\, NY\, 11217\, United States
CATEGORIES:Vision Festival
END:VEVENT
BEGIN:VEVENT
DTSTART;TZID=America/New_York:20250607T180000
DTEND;TZID=America/New_York:20250607T233000
DTSTAMP:20260420T012952
CREATED:20250401T002415Z
LAST-MODIFIED:20250425T142735Z
UID:10000027-1749319200-1749339000@www.artsforart.org
SUMMARY:Vision Festival — June 7
DESCRIPTION:
URL:https://www.artsforart.org/event/vision-festival-june-7/
LOCATION:Roulette Intermedium\, 509 Atlantic Ave\, Brooklyn\, NY\, 11217\, United States
CATEGORIES:Vision Festival
END:VEVENT
BEGIN:VEVENT
DTSTART;TZID=America/New_York:20250608T193000
DTEND;TZID=America/New_York:20250608T233000
DTSTAMP:20260420T012952
CREATED:20250606T140737Z
LAST-MODIFIED:20250606T141135Z
UID:10000033-1749411000-1749425400@www.artsforart.org
SUMMARY:Free Dimensions — June 8: Post-Vision Party & Jam
DESCRIPTION:
URL:https://www.artsforart.org/event/free-dimensions-june-8/
LOCATION:NuBlu Classic\, 62 Loisaida Ave\, New York\, NY\, 10009\, United States
CATEGORIES:FREE DIMENSIONS
END:VEVENT
BEGIN:VEVENT
DTSTART;TZID=America/New_York:20250611T193000
DTEND;TZID=America/New_York:20250611T233000
DTSTAMP:20260420T012952
CREATED:20250606T141019Z
LAST-MODIFIED:20250606T155840Z
UID:10000034-1749670200-1749684600@www.artsforart.org
SUMMARY:Free Dimensions — June 11
DESCRIPTION:Lineup: \nHamid Drake Solo
URL:https://www.artsforart.org/event/free-dimensions-june-11/
LOCATION:NuBlu Classic\, 62 Loisaida Ave\, New York\, NY\, 10009\, United States
CATEGORIES:FREE DIMENSIONS
ATTACH;FMTTYPE=image/png:https://www.artsforart.org/wp-content/uploads/2025/06/FD_June-11-1-scaled.png
END:VEVENT
BEGIN:VEVENT
DTSTART;TZID=America/New_York:20250618T193000
DTEND;TZID=America/New_York:20250618T233000
DTSTAMP:20260420T012952
CREATED:20250613T155703Z
LAST-MODIFIED:20250613T163948Z
UID:10000035-1750275000-1750289400@www.artsforart.org
SUMMARY:June 18 — Ava Mendoza's Birthday
DESCRIPTION:Celebrate Ava Mendoza’s birthday with us at Free Dimensions! \nCurated by Ava Mendoza \nDJ Set by Dynoman \nAmir ElSaffar – trumpet\, santur\, modular synthesizer \nElliot Sharp – guitar\, electronics \nRyan Easter – trumpet\, electronics \nAdam Turay – guitar \nLily Finnegan – drum set \nBrandon Seabrook – banjo
URL:https://www.artsforart.org/event/free-dimensions-june-18/
LOCATION:NuBlu Classic\, 62 Loisaida Ave\, New York\, NY\, 10009\, United States
CATEGORIES:FREE DIMENSIONS
ATTACH;FMTTYPE=image/jpeg:https://www.artsforart.org/wp-content/uploads/2024/11/AvaMendoza.by_.MichaelJung.closerup-e1749829440198.jpg
END:VEVENT
BEGIN:VEVENT
DTSTART;TZID=America/New_York:20250723T190000
DTEND;TZID=America/New_York:20250723T235900
DTSTAMP:20260420T012952
CREATED:20250707T201725Z
LAST-MODIFIED:20250709T170032Z
UID:10000036-1753297200-1753315140@www.artsforart.org
SUMMARY:July 23 — Cultivating Safe Space in MAGA-Time
DESCRIPTION:Lineup: \nRoundtable: Patricia Nicholson\, John Pugh\, Luke Stewart\, Gabby Fluke-Mogul\, Dan Kurfirst\, Craig Harris\, Ariella Stok\, Mara Rosenbloom\, Elijah J. Thomas\, and Elizabeth Frickey. \nArtists for a Free World Band (AFFW) \nTBD
URL:https://www.artsforart.org/event/july-23-cultivating-safe-space-in-maga-time/
LOCATION:NY
END:VEVENT
BEGIN:VEVENT
DTSTART;TZID=America/New_York:20250906T140000
DTEND;TZID=America/New_York:20250906T180000
DTSTAMP:20260420T012952
CREATED:20250811T164911Z
LAST-MODIFIED:20250811T195254Z
UID:10000037-1757167200-1757181600@www.artsforart.org
SUMMARY:6 September — inGardens Festival
DESCRIPTION:
URL:https://www.artsforart.org/event/6-september-ingardens-festival/
LOCATION:Children’s Magical Garden\, 129 Stanton St.\, New York\, NY\, 10002\, United States
CATEGORIES:InGardens Festival
ATTACH;FMTTYPE=image/jpeg:https://www.artsforart.org/wp-content/uploads/2025/04/2024-01-24_Chris-Cochrane_Graphics-scaled-1.jpg
END:VEVENT
BEGIN:VEVENT
DTSTART;TZID=America/New_York:20250907T140000
DTEND;TZID=America/New_York:20250907T180000
DTSTAMP:20260420T012952
CREATED:20250811T165546Z
LAST-MODIFIED:20250811T174856Z
UID:10000038-1757253600-1757268000@www.artsforart.org
SUMMARY:7 September — inGardens Festival
DESCRIPTION:
URL:https://www.artsforart.org/event/7-september-ingardens-festival/
LOCATION:Children’s Magical Garden\, 129 Stanton St.\, New York\, NY\, 10002\, United States
CATEGORIES:InGardens Festival
END:VEVENT
BEGIN:VEVENT
DTSTART;TZID=America/New_York:20250913T140000
DTEND;TZID=America/New_York:20250913T180000
DTSTAMP:20260420T012952
CREATED:20250811T181420Z
LAST-MODIFIED:20250811T181420Z
UID:10000039-1757772000-1757786400@www.artsforart.org
SUMMARY:13 September — inGardens Festival
DESCRIPTION:
URL:https://www.artsforart.org/event/13-september-ingardens-festival/
LOCATION:Children’s Magical Garden\, 129 Stanton St.\, New York\, NY\, 10002\, United States
CATEGORIES:InGardens Festival
END:VEVENT
BEGIN:VEVENT
DTSTART;TZID=America/New_York:20250914T140000
DTEND;TZID=America/New_York:20250914T180000
DTSTAMP:20260420T012952
CREATED:20250811T181632Z
LAST-MODIFIED:20250811T181632Z
UID:10000040-1757858400-1757872800@www.artsforart.org
SUMMARY:14 September — inGardens Festival
DESCRIPTION:
URL:https://www.artsforart.org/event/14-september-ingardens-festival/
LOCATION:Children’s Magical Garden\, 129 Stanton St.\, New York\, NY\, 10002\, United States
CATEGORIES:InGardens Festival
END:VEVENT
BEGIN:VEVENT
DTSTART;TZID=America/New_York:20250920T140000
DTEND;TZID=America/New_York:20250920T180000
DTSTAMP:20260420T012952
CREATED:20250811T181820Z
LAST-MODIFIED:20250811T182305Z
UID:10000041-1758376800-1758391200@www.artsforart.org
SUMMARY:20 September — inGardens Festival
DESCRIPTION:
URL:https://www.artsforart.org/event/20-september-ingardens-festival/
LOCATION:Children’s Magical Garden\, 129 Stanton St.\, New York\, NY\, 10002\, United States
CATEGORIES:InGardens Festival
END:VEVENT
BEGIN:VEVENT
DTSTART;TZID=America/New_York:20250921T140000
DTEND;TZID=America/New_York:20250921T180000
DTSTAMP:20260420T012952
CREATED:20250811T182004Z
LAST-MODIFIED:20250811T182832Z
UID:10000042-1758463200-1758477600@www.artsforart.org
SUMMARY:21 September — inGardens Festival
DESCRIPTION:
URL:https://www.artsforart.org/event/21-september-ingardens-festival/
LOCATION:Children’s Magical Garden\, 129 Stanton St.\, New York\, NY\, 10002\, United States
CATEGORIES:InGardens Festival
END:VEVENT
BEGIN:VEVENT
DTSTART;TZID=America/New_York:20250927T140000
DTEND;TZID=America/New_York:20250927T180000
DTSTAMP:20260420T012952
CREATED:20250811T182137Z
LAST-MODIFIED:20250811T193724Z
UID:10000043-1758981600-1758996000@www.artsforart.org
SUMMARY:27 September — inGardens Festival
DESCRIPTION:
URL:https://www.artsforart.org/event/27-september-ingardens-festival/
LOCATION:First Street Green\, 33 E 1st St\, New York\, 10003\, United States
CATEGORIES:InGardens Festival
END:VEVENT
BEGIN:VEVENT
DTSTART;TZID=America/New_York:20250928T140000
DTEND;TZID=America/New_York:20250928T180000
DTSTAMP:20260420T012952
CREATED:20250811T183137Z
LAST-MODIFIED:20250811T193643Z
UID:10000044-1759068000-1759082400@www.artsforart.org
SUMMARY:28 September — inGardens Festival
DESCRIPTION:
URL:https://www.artsforart.org/event/28-september-ingardens-festival/
LOCATION:First Street Green\, 33 E 1st St\, New York\, 10003\, United States
CATEGORIES:InGardens Festival
END:VEVENT
BEGIN:VEVENT
DTSTART;TZID=America/New_York:20251004T140000
DTEND;TZID=America/New_York:20251004T173000
DTSTAMP:20260420T012952
CREATED:20250811T183354Z
LAST-MODIFIED:20250811T193608Z
UID:10000045-1759586400-1759599000@www.artsforart.org
SUMMARY:4 October — inGardens Festival
DESCRIPTION:
URL:https://www.artsforart.org/event/4-october-ingardens-festival/
LOCATION:First Street Green\, 33 E 1st St\, New York\, 10003\, United States
CATEGORIES:InGardens Festival
END:VEVENT
BEGIN:VEVENT
DTSTART;TZID=America/New_York:20251005T140000
DTEND;TZID=America/New_York:20251005T180000
DTSTAMP:20260420T012952
CREATED:20250811T183611Z
LAST-MODIFIED:20250811T193519Z
UID:10000046-1759672800-1759687200@www.artsforart.org
SUMMARY:5 October — inGardens Festival
DESCRIPTION:
URL:https://www.artsforart.org/event/5-october-ingardens-festival/
LOCATION:First Street Green\, 33 E 1st St\, New York\, 10003\, United States
CATEGORIES:InGardens Festival
END:VEVENT
END:VCALENDAR