BEGIN:VCALENDAR
VERSION:2.0
PRODID:-//Arts For Art - ECPv6.15.20//NONSGML v1.0//EN
CALSCALE:GREGORIAN
METHOD:PUBLISH
X-ORIGINAL-URL:https://www.artsforart.org
X-WR-CALDESC:Events for Arts For Art
REFRESH-INTERVAL;VALUE=DURATION:PT1H
X-Robots-Tag:noindex
X-PUBLISHED-TTL:PT1H
BEGIN:VTIMEZONE
TZID:America/New_York
BEGIN:DAYLIGHT
TZOFFSETFROM:-0500
TZOFFSETTO:-0400
TZNAME:EDT
DTSTART:20250309T070000
END:DAYLIGHT
BEGIN:STANDARD
TZOFFSETFROM:-0400
TZOFFSETTO:-0500
TZNAME:EST
DTSTART:20251102T060000
END:STANDARD
BEGIN:DAYLIGHT
TZOFFSETFROM:-0500
TZOFFSETTO:-0400
TZNAME:EDT
DTSTART:20260308T070000
END:DAYLIGHT
BEGIN:STANDARD
TZOFFSETFROM:-0400
TZOFFSETTO:-0500
TZNAME:EST
DTSTART:20261101T060000
END:STANDARD
BEGIN:DAYLIGHT
TZOFFSETFROM:-0500
TZOFFSETTO:-0400
TZNAME:EDT
DTSTART:20270314T070000
END:DAYLIGHT
BEGIN:STANDARD
TZOFFSETFROM:-0400
TZOFFSETTO:-0500
TZNAME:EST
DTSTART:20271107T060000
END:STANDARD
END:VTIMEZONE
BEGIN:VEVENT
DTSTART;TZID=America/New_York:20260422T190000
DTEND;TZID=America/New_York:20260422T230000
DTSTAMP:20260419T153826
CREATED:20260327T160233Z
LAST-MODIFIED:20260414T170324Z
UID:10000079-1776884400-1776898800@www.artsforart.org
SUMMARY:Inter(space) - Apr 22
DESCRIPTION:7 pm: William Parker Pocketwatch Residency: William Parker – composition\, conducting\, double reeds\, etc / Rob Brown\, Aakash Mitta\, Devin Waldman – alto / Alfredo Colon\, Isaiah Barr – tenor / Dave Sewelson – baritone / Diego Hedez – trumpet / Colin Babcock\, Masahiko Kono – trombone Colson Jimenez – bass / Juan Pablo Carletti – drums / Hans Young Binter – piano / Ellen Christi\, Kyoko Kitamura – voice / Patricia Nicholson – voice\, spoken word \n8 pm: Siren Xypher:  Melanie Dyer – viola / Mara Rosenbloom – piano / Kyoko Kitamura – voice \n9 pm: Ellen Christi / TA Thompson / Eri / Patricia Nicholson Parker: Ellen Christi – voice / TA Thompson – drum  / Eri Yamamoto – piano  / Patricia Nicholson Parker – spoken words
URL:https://www.artsforart.org/event/interspace-apr-22/
LOCATION:Loove Annex\, 238 N 12th St\, Brooklyn\, NY\, 11211\, United States
END:VEVENT
BEGIN:VEVENT
DTSTART;TZID=America/New_York:20260429T190000
DTEND;TZID=America/New_York:20260429T230000
DTSTAMP:20260419T153826
CREATED:20260327T160722Z
LAST-MODIFIED:20260410T205227Z
UID:10000080-1777489200-1777503600@www.artsforart.org
SUMMARY:Inter(space) - Apr 29
DESCRIPTION:7 pm: William Parker Pocketwatch Residency: William Parker – composition\, conducting\, double reeds\, etc / Rob Brown\, Aakash Mitta\, Devin Waldman – alto / Alfredo Colon\, Isaiah Barr – tenor / Dave Sewelson – baritone / Diego Hedez – trumpet / Colin Babcock\, Masahiko Kono – trombone Colson Jimenez – bass / Juan Pablo Carletti – drums / Hans Young Binter – piano / Ellen Christi\, Kyoko Kitamura – voice / Patricia Nicholson – voice\, spoken word \n8 pm: William Parker Pocketwatch Residency: William Parker – composition\, conducting\, double reeds\, etc / Rob Brown\, Aakash Mitta\, Devin Waldman – alto / Alfredo Colon\, Isaiah Barr – tenor / Dave Sewelson – baritone / Diego Hedez – trumpet / Colin Babcock\, Masahiko Kono – trombone Colson Jimenez – bass / Juan Pablo Carletti – drums / Hans Young Binter – piano / Ellen Christi\, Kyoko Kitamura – voice / Patricia Nicholson – voice\, spoken word \n9 pm: Sam Newsome Quartet: Sam Newsome – soprano / Brittney Karlson – bass / Nick Neuberg – drums / Tash Nikol spoken word
URL:https://www.artsforart.org/event/interspace-apr-29/
LOCATION:Loove Annex\, 238 N 12th St\, Brooklyn\, NY\, 11211\, United States
END:VEVENT
END:VCALENDAR